BEGIN:VCALENDAR
VERSION:2.0
PRODID:DPCALENDAR
CALSCALE:GREGORIAN
BEGIN:VTIMEZONE
TZID:Europe/Berlin
X-MICROSOFT-CDO-TZID:4
BEGIN:STANDARD
DTSTART:20251026T010000
TZOFFSETFROM:+0200
TZOFFSETTO:+0100
TZNAME:CET
END:STANDARD
BEGIN:STANDARD
DTSTART:20261025T010000
TZOFFSETFROM:+0200
TZOFFSETTO:+0100
TZNAME:CET
END:STANDARD
BEGIN:DAYLIGHT
DTSTART:20260329T010000
TZOFFSETFROM:+0100
TZOFFSETTO:+0200
TZNAME:CEST
END:DAYLIGHT
END:VTIMEZONE
X-WR-TIMEZONE:Europe/Berlin
BEGIN:VEVENT
DTSTART;TZID=Europe/Berlin:20240729T200000
DTEND;TZID=Europe/Berlin:20240729T210000
UID:E989ADA8-D5C6-4527-8868-E6108F8AEBA4
SUMMARY:Sommerkino in Löbnitz - Erwachsenenvorstellung
CREATED:20240603T120917Z
DTSTAMP:20240603T120917Z
URL:https://www.pfarrbereich-schenkenberg.de/index.php/kalender/sommerkino-in-loebnitz-erwachsenenvorstellung
DESCRIPTION:Sommerkino in Löbnitz - Erwachsenenvorstellung\NMontag, 29.7. - 20.00 Uhr \NKlima retten für Anfänger\NEintritt frei - Wir bitten um eine Spende für die Unkosten!
X-ALT-DESC;FMTTYPE=text/html:<p>Sommerkino in Löbnitz -&nbsp;Erwachsenenvorstellung</p><p>Montag, 29.7. - 20.00 Uhr&nbsp;</p><p>Klima retten für Anfänger</p><p>Eintritt frei - Wir bitten um eine Spende für die Unkosten!</p>
X-ACCESS:1
X-HITS:0
X-COLOR:3366CC
X-SHOW-END-TIME:0
END:VEVENT
BEGIN:VEVENT
DTSTART;TZID=Europe/Berlin:20260215T141500
DTEND;TZID=Europe/Berlin:20260215T151500
UID:0F03FD0B-DE71-49A8-B7D8-E908BC0AC44B
SUMMARY:Schenkenberg, Gottesdienst 
CREATED:20251230T120422Z
DTSTAMP:20251230T120422Z
URL:https://www.pfarrbereich-schenkenberg.de/index.php/kalender/schenkenberg-gottesdienst-15
DESCRIPTION:Sonntag, 15.2.\N14.15 Uhr – Schenkenberg – Gottesdienst
X-ALT-DESC;FMTTYPE=text/html:<p>Sonntag, 15.2.</p><p>14.15 Uhr –&nbsp;Schenkenberg –&nbsp;Gottesdienst</p>
LAST-MODIFIED:20251230T120422Z
SEQUENCE:0
X-ACCESS:1
X-HITS:0
X-COLOR:3366CC
X-SHOW-END-TIME:0
END:VEVENT
END:VCALENDAR