BEGIN:VCALENDAR
VERSION:2.0
PRODID:DPCALENDAR
CALSCALE:GREGORIAN
BEGIN:VTIMEZONE
TZID:Europe/Berlin
X-MICROSOFT-CDO-TZID:4
BEGIN:STANDARD
DTSTART:20251026T010000
TZOFFSETFROM:+0200
TZOFFSETTO:+0100
TZNAME:CET
END:STANDARD
BEGIN:STANDARD
DTSTART:20261025T010000
TZOFFSETFROM:+0200
TZOFFSETTO:+0100
TZNAME:CET
END:STANDARD
BEGIN:DAYLIGHT
DTSTART:20260329T010000
TZOFFSETFROM:+0100
TZOFFSETTO:+0200
TZNAME:CEST
END:DAYLIGHT
END:VTIMEZONE
X-WR-TIMEZONE:Europe/Berlin
BEGIN:VEVENT
DTSTART;VALUE=DATE:20231224
DTEND;VALUE=DATE:20231227
UID:6E135CBC-12CB-49B8-BC33-05F3A6FF1B0E
SUMMARY:Konfis 2024
CREATED:20231214T123200Z
DTSTAMP:20231214T123200Z
URL:https://www.pfarrbereich-schenkenberg.de/index.php/kalender/konfis-2024
DESCRIPTION:24.-26.12.2023 – Heimatkirche – Besuch eines Weihnachtsgottesdienstes
X-ALT-DESC;FMTTYPE=text/html:<p>24.-26.12.2023 – Heimatkirche – Besuch eines Weihnachtsgottesdienstes</p>
X-ACCESS:1
X-HITS:0
X-COLOR:001c78
X-SHOW-END-TIME:1
END:VEVENT
BEGIN:VEVENT
DTSTART;VALUE=DATE:20231224
DTEND;VALUE=DATE:20231225
UID:E958C786-5CA4-42D2-820B-E703AA7835CE
SUMMARY:Konfis 2025
CREATED:20231214T123946Z
DTSTAMP:20231214T123946Z
URL:https://www.pfarrbereich-schenkenberg.de/index.php/kalender/konfis-2038
DESCRIPTION:24.12.2023 – Pfarrbereich – Besuch eines Heilig Abend-Gottesdienst
X-ALT-DESC;FMTTYPE=text/html:<p>24.12.2023 – Pfarrbereich – Besuch eines Heilig Abend-Gottesdienst</p>
X-ACCESS:1
X-HITS:0
X-COLOR:001c78
X-SHOW-END-TIME:1
END:VEVENT
BEGIN:VEVENT
DTSTART;TZID=Europe/Berlin:20240112T170000
DTEND;TZID=Europe/Berlin:20240112T200000
UID:5A70CCCE-49D8-402B-95FC-D46BE1465A46
SUMMARY:Konfis 2024
CREATED:20231214T123333Z
DTSTAMP:20231214T123333Z
URL:https://www.pfarrbereich-schenkenberg.de/index.php/kalender/konfis-2025
DESCRIPTION:12.01. – 17.00-20.00 Uhr – Schenkenberg – Thema: Diakonie
X-ALT-DESC;FMTTYPE=text/html:<p>12.01. – 17.00-20.00 Uhr – Schenkenberg – Thema: Diakonie</p>
X-ACCESS:1
X-HITS:0
X-COLOR:001c78
X-SHOW-END-TIME:1
END:VEVENT
BEGIN:VEVENT
DTSTART;TZID=Europe/Berlin:20240119T170000
DTEND;TZID=Europe/Berlin:20240119T200000
UID:16B9FCF7-84B8-42BD-937B-BEC1B49F9FFC
SUMMARY:Konfis 2025
CREATED:20231214T124021Z
DTSTAMP:20231214T124021Z
URL:https://www.pfarrbereich-schenkenberg.de/index.php/kalender/konfis-2039
DESCRIPTION:19.01.2024 – 17.00-20.00 Uhr – Schenkenberg – Thema: Bibel
X-ALT-DESC;FMTTYPE=text/html:<p>19.01.2024 – 17.00-20.00 Uhr – Schenkenberg – Thema: Bibel</p>
X-ACCESS:1
X-HITS:0
X-COLOR:001c78
X-SHOW-END-TIME:1
END:VEVENT
BEGIN:VEVENT
DTSTART;TZID=Europe/Berlin:20240202T170000
DTEND;TZID=Europe/Berlin:20240202T200000
UID:2294BB0B-A25F-471C-906A-2AB3A9C5AC9C
SUMMARY:Konfis 2024
CREATED:20231214T123420Z
DTSTAMP:20231214T123420Z
URL:https://www.pfarrbereich-schenkenberg.de/index.php/kalender/konfis-2026
DESCRIPTION:02.02. – 17.00-20.00 Uhr – Auswärts/Schenkenberg – Thema: Notfallseelsorge/Hospiz/Militärseelsorge
X-ALT-DESC;FMTTYPE=text/html:<p>02.02. – 17.00-20.00 Uhr – Auswärts/Schenkenberg – Thema: Notfallseelsorge/Hospiz/Militärseelsorge</p>
X-ACCESS:1
X-HITS:0
X-COLOR:001c78
X-SHOW-END-TIME:1
END:VEVENT
BEGIN:VEVENT
DTSTART;TZID=Europe/Berlin:20240209T170000
DTEND;TZID=Europe/Berlin:20240209T200000
UID:4046CF60-8DB1-4CB9-A638-90D9EAAED74E
SUMMARY:Konfis 2025
CREATED:20231214T124050Z
DTSTAMP:20231214T124050Z
URL:https://www.pfarrbereich-schenkenberg.de/index.php/kalender/konfis-2040
DESCRIPTION:09.02.2024 – 17.00-20.00 Uhr – Schenkenberg – Thema: Glaubensbekenntnis
X-ALT-DESC;FMTTYPE=text/html:<p>09.02.2024 – 17.00-20.00 Uhr – Schenkenberg – Thema: Glaubensbekenntnis</p>
X-ACCESS:1
X-HITS:0
X-COLOR:001c78
X-SHOW-END-TIME:1
END:VEVENT
BEGIN:VEVENT
DTSTART;TZID=Europe/Berlin:20240224T180000
DTEND;TZID=Europe/Berlin:20240224T190000
UID:5A133A5B-E048-4A52-A857-D44C57BBEE39
SUMMARY:Konfis 2024
CREATED:20231214T123448Z
DTSTAMP:20231214T123448Z
URL:https://www.pfarrbereich-schenkenberg.de/index.php/kalender/konfis-2027
DESCRIPTION:24.02. – 18.00 Uhr – Schenkenberg – Friedensandacht Ukrainekrieg
X-ALT-DESC;FMTTYPE=text/html:<p>24.02. – 18.00 Uhr – Schenkenberg – Friedensandacht Ukrainekrieg</p>
X-ACCESS:1
X-HITS:0
X-COLOR:001c78
X-SHOW-END-TIME:0
END:VEVENT
BEGIN:VEVENT
DTSTART;TZID=Europe/Berlin:20240301T170000
DTEND;TZID=Europe/Berlin:20240301T200000
UID:5B0B169E-6B5A-46C1-8EFB-A5935798037D
SUMMARY:Konfis 2024
CREATED:20231214T123520Z
DTSTAMP:20231214T123520Z
URL:https://www.pfarrbereich-schenkenberg.de/index.php/kalender/konfis-2028
DESCRIPTION:01.03. – 17.00-20.00 Uhr – Schkeuditz – Weltgebetstag
X-ALT-DESC;FMTTYPE=text/html:<p>01.03. – 17.00-20.00 Uhr – Schkeuditz – Weltgebetstag</p>
X-ACCESS:1
X-HITS:0
X-COLOR:001c78
X-SHOW-END-TIME:1
END:VEVENT
BEGIN:VEVENT
DTSTART;TZID=Europe/Berlin:20240308T170000
DTEND;TZID=Europe/Berlin:20240308T200000
UID:2F07576E-D6C0-4109-B34D-8CB1BC7EF661
SUMMARY:Konfis 2025
CREATED:20231214T124118Z
DTSTAMP:20231214T124118Z
URL:https://www.pfarrbereich-schenkenberg.de/index.php/kalender/konfis-2041
DESCRIPTION:08.03.2024 – 17.00-20.00 Uhr – Schenkenberg – Thema: Vaterunser
X-ALT-DESC;FMTTYPE=text/html:<p>08.03.2024 – 17.00-20.00 Uhr – Schenkenberg – Thema: Vaterunser</p>
X-ACCESS:1
X-HITS:0
X-COLOR:001c78
X-SHOW-END-TIME:1
END:VEVENT
BEGIN:VEVENT
DTSTART;TZID=Europe/Berlin:20240315T170000
DTEND;TZID=Europe/Berlin:20240315T200000
UID:9E0F56FB-A752-4FDE-938D-11480C9B5E14
SUMMARY:Konfis 2024
CREATED:20231214T123552Z
DTSTAMP:20231214T123552Z
URL:https://www.pfarrbereich-schenkenberg.de/index.php/kalender/konfis-2029
DESCRIPTION:15.03. – 17.00-20.00 Uhr – Schenkenberg – Thema: Sakramente
X-ALT-DESC;FMTTYPE=text/html:<p>15.03. – 17.00-20.00 Uhr – Schenkenberg – Thema: Sakramente</p>
X-ACCESS:1
X-HITS:0
X-COLOR:001c78
X-SHOW-END-TIME:1
END:VEVENT
BEGIN:VEVENT
DTSTART;TZID=Europe/Berlin:20240315T170000
DTEND;TZID=Europe/Berlin:20240315T200000
UID:FB161A1E-A3F7-4095-A767-7734E140FDE7
SUMMARY:Konfis 2024
CREATED:20231214T123630Z
DTSTAMP:20231214T123630Z
URL:https://www.pfarrbereich-schenkenberg.de/index.php/kalender/konfis-2030
DESCRIPTION:15.03. – 17.00-20.00 Uhr – Schenkenberg – Thema: Sakramente
X-ALT-DESC;FMTTYPE=text/html:<p>15.03. – 17.00-20.00 Uhr – Schenkenberg – Thema: Sakramente</p>
X-ACCESS:1
X-HITS:0
X-COLOR:001c78
X-SHOW-END-TIME:1
END:VEVENT
BEGIN:VEVENT
DTSTART;TZID=Europe/Berlin:20240322T170000
DTEND;TZID=Europe/Berlin:20240322T200000
UID:E6E98D4B-5167-497C-AECC-F622EF056B00
SUMMARY:Konfis 2024
CREATED:20231214T123701Z
DTSTAMP:20231214T123701Z
URL:https://www.pfarrbereich-schenkenberg.de/index.php/kalender/konfis-2031
DESCRIPTION:22.03. – 17.00-20.00 Uhr – Schenkenberg – Thema: Mein Konfirmationsspruch
X-ALT-DESC;FMTTYPE=text/html:<p>22.03. – 17.00-20.00 Uhr – Schenkenberg – Thema: Mein Konfirmationsspruch</p>
X-ACCESS:1
X-HITS:0
X-COLOR:001c78
X-SHOW-END-TIME:1
END:VEVENT
BEGIN:VEVENT
DTSTART;VALUE=DATE:20240329
DTEND;VALUE=DATE:20240330
UID:2E40E634-B076-4B17-83B0-E4FE14AB71E3
SUMMARY:Konfis 2024
CREATED:20231214T123729Z
DTSTAMP:20231214T123729Z
URL:https://www.pfarrbereich-schenkenberg.de/index.php/kalender/konfis-2032
DESCRIPTION:29.03. – Heimatkirche – Besuch eines Gottesdienstes zum Karfreitag
X-ALT-DESC;FMTTYPE=text/html:<p>29.03. – Heimatkirche – Besuch eines Gottesdienstes zum Karfreitag</p>
X-ACCESS:1
X-HITS:0
X-COLOR:001c78
X-SHOW-END-TIME:1
END:VEVENT
BEGIN:VEVENT
DTSTART;VALUE=DATE:20240329
DTEND;VALUE=DATE:20240330
UID:3E6770C8-1922-466F-BDC0-5F40EF8BABDD
SUMMARY:Konfis 2024
CREATED:20231214T123739Z
DTSTAMP:20231214T123739Z
URL:https://www.pfarrbereich-schenkenberg.de/index.php/kalender/konfis-2033
DESCRIPTION:29.03. – Heimatkirche – Besuch eines Gottesdienstes zum Karfreitag
X-ALT-DESC;FMTTYPE=text/html:<p>29.03. – Heimatkirche – Besuch eines Gottesdienstes zum Karfreitag</p>
X-ACCESS:1
X-HITS:0
X-COLOR:001c78
X-SHOW-END-TIME:1
END:VEVENT
BEGIN:VEVENT
DTSTART;VALUE=DATE:20240329
DTEND;VALUE=DATE:20240330
UID:5ADE8578-4AC6-4D62-8FB7-2E63B0C79107
SUMMARY:Konfis 2025
CREATED:20231214T124141Z
DTSTAMP:20231214T124141Z
URL:https://www.pfarrbereich-schenkenberg.de/index.php/kalender/konfis-2042
DESCRIPTION:29.03.2024 – Pfarrbereich – Besuch eines Karfreitagsgottesdienstes
X-ALT-DESC;FMTTYPE=text/html:<p>29.03.2024 – Pfarrbereich – Besuch eines Karfreitagsgottesdienstes</p>
X-ACCESS:1
X-HITS:0
X-COLOR:001c78
X-SHOW-END-TIME:1
END:VEVENT
BEGIN:VEVENT
DTSTART;VALUE=DATE:20240330
DTEND;VALUE=DATE:20240402
UID:F50D0D9F-FA20-40FE-AC3D-80EE64CA3FB5
SUMMARY:Konfis 2024
CREATED:20231214T123801Z
DTSTAMP:20231214T123801Z
URL:https://www.pfarrbereich-schenkenberg.de/index.php/kalender/konfis-2034
DESCRIPTION:30.3./01.04. – Heimatkirche – Besuch einer Osternacht/Ostergottesdienst
X-ALT-DESC;FMTTYPE=text/html:<p>30.3./01.04. – Heimatkirche – Besuch einer Osternacht/Ostergottesdienst</p>
X-ACCESS:1
X-HITS:0
X-COLOR:001c78
X-SHOW-END-TIME:1
END:VEVENT
BEGIN:VEVENT
DTSTART;TZID=Europe/Berlin:20240331T220000
DTEND;TZID=Europe/Berlin:20240331T230000
UID:F81B6CAA-0DAE-4DA9-BD15-2040796E6216
SUMMARY:Konfis 2025
CREATED:20231214T124208Z
DTSTAMP:20231214T124208Z
URL:https://www.pfarrbereich-schenkenberg.de/index.php/kalender/konfis-2043
DESCRIPTION:31.03.2024 – 22.00 Uhr – Osternacht in Schenkenberg – Besuch eines Ostergottesdienstes
X-ALT-DESC;FMTTYPE=text/html:<p>31.03.2024 – 22.00 Uhr –&nbsp;Osternacht in Schenkenberg – Besuch eines Ostergottesdienstes</p>
X-ACCESS:1
X-HITS:0
X-COLOR:001c78
X-SHOW-END-TIME:0
END:VEVENT
BEGIN:VEVENT
DTSTART;TZID=Europe/Berlin:20240405T180000
DTEND;TZID=Europe/Berlin:20240405T190000
UID:01D18F21-D0E6-4B31-981B-6281CD8AE84F
SUMMARY:Konfis 2024
CREATED:20231214T123826Z
DTSTAMP:20231214T123826Z
URL:https://www.pfarrbereich-schenkenberg.de/index.php/kalender/konfis-2035
DESCRIPTION:05.04. – 18.00 / 19.30 Uhr – Schenkenberg/Löbnitz – Abschlussessen & Erstabendmahl
X-ALT-DESC;FMTTYPE=text/html:<p>05.04. – 18.00 / 19.30 Uhr – Schenkenberg/Löbnitz – Abschlussessen &amp; Erstabendmahl</p>
X-ACCESS:1
X-HITS:0
X-COLOR:001c78
X-SHOW-END-TIME:0
END:VEVENT
BEGIN:VEVENT
DTSTART;TZID=Europe/Berlin:20240406T110000
DTEND;TZID=Europe/Berlin:20240406T120000
UID:F1E95B3C-2FCC-4C4F-ACB8-DD8C0B781EF4
SUMMARY:Konfis 2025
CREATED:20231214T124242Z
DTSTAMP:20231214T124242Z
URL:https://www.pfarrbereich-schenkenberg.de/index.php/kalender/konfis-2044
DESCRIPTION:06.04.2024 – 11.00/13.00 Uhr – Löbnitz/Schenkenberg – Teilnahme und Mitwirkung am Konfirmationsgottesdienst der 2024’er
X-ALT-DESC;FMTTYPE=text/html:<p>06.04.2024 – 11.00/13.00 Uhr – Löbnitz/Schenkenberg – Teilnahme und Mitwirkung am Konfirmationsgottesdienst der 2024’er</p>
X-ACCESS:1
X-HITS:0
X-COLOR:001c78
X-SHOW-END-TIME:0
END:VEVENT
BEGIN:VEVENT
DTSTART;TZID=Europe/Berlin:20240406T113000
DTEND;TZID=Europe/Berlin:20240406T123000
UID:3493DB19-FBEE-42FE-B997-A73788BA58C4
SUMMARY:Konfis 2024
CREATED:20231214T123849Z
DTSTAMP:20231214T123849Z
URL:https://www.pfarrbereich-schenkenberg.de/index.php/kalender/konfis-2036
DESCRIPTION:06.04. – 11.30 Uhr – Schenkenberg – Konfirmation 1
X-ALT-DESC;FMTTYPE=text/html:<p>06.04. – 11.30 Uhr – Schenkenberg – Konfirmation 1</p>
X-ACCESS:1
X-HITS:0
X-COLOR:001c78
X-SHOW-END-TIME:0
END:VEVENT
BEGIN:VEVENT
DTSTART;TZID=Europe/Berlin:20240406T130000
DTEND;TZID=Europe/Berlin:20240406T140000
UID:B07CCBBA-AF56-4DD3-92F1-2D2D44346BF4
SUMMARY:Konfis 2024
CREATED:20231214T123908Z
DTSTAMP:20231214T123908Z
URL:https://www.pfarrbereich-schenkenberg.de/index.php/kalender/konfis-2037
DESCRIPTION:06.04. – 13.00 Uhr – Schenkenberg – Konfirmation 2
X-ALT-DESC;FMTTYPE=text/html:<p>06.04. – 13.00 Uhr – Schenkenberg – Konfirmation 2</p>
X-ACCESS:1
X-HITS:0
X-COLOR:001c78
X-SHOW-END-TIME:0
END:VEVENT
BEGIN:VEVENT
DTSTART;TZID=Europe/Berlin:20240412T170000
DTEND;TZID=Europe/Berlin:20240412T200000
UID:7BC82BE3-5C7C-4030-A621-339927314E4B
SUMMARY:Konfis 2025
CREATED:20231214T124312Z
DTSTAMP:20231214T124312Z
URL:https://www.pfarrbereich-schenkenberg.de/index.php/kalender/konfis-2045
DESCRIPTION:12.04.2024 – 17.00-20.00 Uhr – Schenkenberg/Löbnitz – Thema: Luther/Bilderdecke
X-ALT-DESC;FMTTYPE=text/html:<p>12.04.2024 – 17.00-20.00 Uhr – Schenkenberg/Löbnitz – Thema: Luther/Bilderdecke</p>
X-ACCESS:1
X-HITS:0
X-COLOR:001c78
X-SHOW-END-TIME:1
END:VEVENT
BEGIN:VEVENT
DTSTART;TZID=Europe/Berlin:20240426T170000
DTEND;TZID=Europe/Berlin:20240426T200000
UID:95690354-6BDF-4E23-A907-8A947626DF2A
SUMMARY:Konfis 2025
CREATED:20231214T124339Z
DTSTAMP:20231214T124339Z
URL:https://www.pfarrbereich-schenkenberg.de/index.php/kalender/konfis-2046
DESCRIPTION:26.04.2024 – 17.00-20.00 Uhr – Schenkenberg – Thema: Pfarrersein
X-ALT-DESC;FMTTYPE=text/html:<p>26.04.2024 – 17.00-20.00 Uhr – Schenkenberg – Thema: Pfarrersein</p>
X-ACCESS:1
X-HITS:0
X-COLOR:001c78
X-SHOW-END-TIME:1
END:VEVENT
BEGIN:VEVENT
DTSTART;TZID=Europe/Berlin:20240511T140000
DTEND;TZID=Europe/Berlin:20240511T150000
UID:020FFCD8-1F3D-4E2F-A8ED-952EFB6DFBB2
SUMMARY:Konfis 2025
CREATED:20231214T124403Z
DTSTAMP:20231214T124403Z
URL:https://www.pfarrbereich-schenkenberg.de/index.php/kalender/konfis-2047
DESCRIPTION:11.05.2024 – 14.00-15.00 Uhr – Schenkenberg – Besuch Hochzeit/Taufe
X-ALT-DESC;FMTTYPE=text/html:<p>11.05.2024 – 14.00-15.00 Uhr – Schenkenberg – Besuch Hochzeit/Taufe</p>
X-ACCESS:1
X-HITS:0
X-COLOR:001c78
X-SHOW-END-TIME:1
END:VEVENT
BEGIN:VEVENT
DTSTART;TZID=Europe/Berlin:20240517T160000
DTEND;TZID=Europe/Berlin:20240517T200000
UID:40F067B1-1FCF-406F-A014-37F6ED3577BC
SUMMARY:Konfis 2025
CREATED:20231214T124431Z
DTSTAMP:20231214T124431Z
URL:https://www.pfarrbereich-schenkenberg.de/index.php/kalender/konfis-2048
DESCRIPTION:17.05.2024 – 16.00-20.00 Uhr – Schenkenberg/Torgau – Jugendbildungshaus
X-ALT-DESC;FMTTYPE=text/html:<p>17.05.2024 – 16.00-20.00 Uhr – Schenkenberg/Torgau – Jugendbildungshaus</p>
X-ACCESS:1
X-HITS:0
X-COLOR:001c78
X-SHOW-END-TIME:1
END:VEVENT
BEGIN:VEVENT
DTSTART;VALUE=DATE:20240519
DTEND;VALUE=DATE:20240520
UID:9A50E80C-9C97-4D57-826D-B08F26D0E414
SUMMARY:Konfis 2025
CREATED:20231214T124451Z
DTSTAMP:20231214T124451Z
URL:https://www.pfarrbereich-schenkenberg.de/index.php/kalender/konfis-2049
DESCRIPTION:19.05.2024 – Pfarrbereich – Besuch eines Pfingstgottesdienstes
X-ALT-DESC;FMTTYPE=text/html:<p>19.05.2024 – Pfarrbereich – Besuch eines Pfingstgottesdienstes</p>
X-ACCESS:1
X-HITS:0
X-COLOR:001c78
X-SHOW-END-TIME:1
END:VEVENT
BEGIN:VEVENT
DTSTART;TZID=Europe/Berlin:20240614T170000
DTEND;TZID=Europe/Berlin:20240614T200000
UID:AAB36E03-D5EB-4A99-B3F4-2985BD295767
SUMMARY:Konfis 2025
CREATED:20231214T124516Z
DTSTAMP:20231214T124516Z
URL:https://www.pfarrbereich-schenkenberg.de/index.php/kalender/konfis-2050
DESCRIPTION:14.06.2024 – 17.00-20.00 Uhr – Lissa – Thema: Kirchenbau/Sommerabschluss
X-ALT-DESC;FMTTYPE=text/html:<p>14.06.2024 – 17.00-20.00 Uhr – Lissa – Thema: Kirchenbau/Sommerabschluss</p>
X-ACCESS:1
X-HITS:0
X-COLOR:001c78
X-SHOW-END-TIME:1
END:VEVENT
BEGIN:VEVENT
DTSTART;TZID=Europe/Berlin:20240816T170000
DTEND;TZID=Europe/Berlin:20240816T200000
UID:C2318FCA-65C1-49E6-A854-E898C37B4B86
SUMMARY:Konfis 2025
CREATED:20231214T124542Z
DTSTAMP:20231214T124542Z
URL:https://www.pfarrbereich-schenkenberg.de/index.php/kalender/konfis-2051
DESCRIPTION:16.08.2024 – 17.00-20.00 Uhr – Schenkenberg – Thema: Taufe/Hochzeit/Beerdigung
X-ALT-DESC;FMTTYPE=text/html:<p>16.08.2024 – 17.00-20.00 Uhr – Schenkenberg – Thema: Taufe/Hochzeit/Beerdigung</p>
X-ACCESS:1
X-HITS:0
X-COLOR:001c78
X-SHOW-END-TIME:1
END:VEVENT
BEGIN:VEVENT
DTSTART;TZID=Europe/Berlin:20240913T170000
DTEND;TZID=Europe/Berlin:20240913T200000
UID:CA3A1D69-83D0-4794-9467-7C0DBCB4ED04
SUMMARY:Konfis 2025
CREATED:20231214T124605Z
DTSTAMP:20231214T124605Z
URL:https://www.pfarrbereich-schenkenberg.de/index.php/kalender/konfis-2052
DESCRIPTION:13.09.2024 – 17.00-20.00 Uhr – Schenkenberg/Delitzsch – Thema: Besuch beim OBM
X-ALT-DESC;FMTTYPE=text/html:<p>13.09.2024 – 17.00-20.00 Uhr –&nbsp;Schenkenberg/Delitzsch – Thema: Besuch beim OBM</p>
X-ACCESS:1
X-HITS:0
X-COLOR:001c78
X-SHOW-END-TIME:1
END:VEVENT
BEGIN:VEVENT
DTSTART;TZID=Europe/Berlin:20240927T170000
DTEND;TZID=Europe/Berlin:20240927T200000
UID:A26A137B-DA37-41CA-92A8-E122A6392900
SUMMARY:Konfis 2025
CREATED:20231214T124632Z
DTSTAMP:20231214T124632Z
URL:https://www.pfarrbereich-schenkenberg.de/index.php/kalender/konfis-2053
DESCRIPTION:27.09.2024 – 17.00-20.00 Uhr – Schenkenberg/??? – Thema: Sonderseelsorge Militär/Polizei/FFW/Hospiz
X-ALT-DESC;FMTTYPE=text/html:<p>27.09.2024 – 17.00-20.00 Uhr – Schenkenberg/??? – Thema: Sonderseelsorge Militär/Polizei/FFW/Hospiz</p>
X-ACCESS:1
X-HITS:0
X-COLOR:001c78
X-SHOW-END-TIME:1
END:VEVENT
BEGIN:VEVENT
DTSTART;VALUE=DATE:20240929
DTEND;VALUE=DATE:20240930
UID:64BED534-08B9-48D8-A96C-81E3BECC086A
SUMMARY:Konfis 2025
CREATED:20231214T124653Z
DTSTAMP:20231214T124653Z
URL:https://www.pfarrbereich-schenkenberg.de/index.php/kalender/konfis-2054
DESCRIPTION:29.09.2024 – Pfarrbereich – Besuch eines Erntedankfestgottesdienstes
X-ALT-DESC;FMTTYPE=text/html:<p>29.09.2024 – Pfarrbereich – Besuch eines Erntedankfestgottesdienstes</p>
X-ACCESS:1
X-HITS:0
X-COLOR:001c78
X-SHOW-END-TIME:1
END:VEVENT
BEGIN:VEVENT
DTSTART;TZID=Europe/Berlin:20241025T070000
DTEND;TZID=Europe/Berlin:20241025T190000
UID:19EAE18A-1636-4CC3-941E-9698D6C8E2DE
SUMMARY:Konfis 2025
CREATED:20231214T124718Z
DTSTAMP:20231214T124718Z
URL:https://www.pfarrbereich-schenkenberg.de/index.php/kalender/konfis-2055
DESCRIPTION:25.10.2024 – 07.00-19.00 Uhr – Berlin – Besuch Jüdisches Museum/Berlinführung
X-ALT-DESC;FMTTYPE=text/html:<p>25.10.2024 – 07.00-19.00 Uhr – Berlin – Besuch Jüdisches Museum/Berlinführung</p>
X-ACCESS:1
X-HITS:0
X-COLOR:001c78
X-SHOW-END-TIME:1
END:VEVENT
BEGIN:VEVENT
DTSTART;TZID=Europe/Berlin:20241115T170000
DTEND;TZID=Europe/Berlin:20241115T200000
UID:AAE6B102-7069-4924-AC9A-F28D754D6775
SUMMARY:Konfis 2025
CREATED:20231214T124743Z
DTSTAMP:20231214T124743Z
URL:https://www.pfarrbereich-schenkenberg.de/index.php/kalender/konfis-2056
DESCRIPTION:15.11.2024 – 17.00-20.00 Uhr – Schenkenberg/Delitzsch – Besuch Bestattungshaus
X-ALT-DESC;FMTTYPE=text/html:<p>15.11.2024 – 17.00-20.00 Uhr – Schenkenberg/Delitzsch – Besuch Bestattungshaus</p>
X-ACCESS:1
X-HITS:0
X-COLOR:001c78
X-SHOW-END-TIME:1
END:VEVENT
BEGIN:VEVENT
DTSTART;VALUE=DATE:20241124
DTEND;VALUE=DATE:20241125
UID:1CD46CBE-2872-4D57-BE16-6FC25B9325AB
SUMMARY:Konfis 2025
CREATED:20231214T124803Z
DTSTAMP:20231214T124803Z
URL:https://www.pfarrbereich-schenkenberg.de/index.php/kalender/konfis-2057
DESCRIPTION:24.11.2024 – Pfarrbereich – Besuch eines Totensonntagsgottesdienstes
X-ALT-DESC;FMTTYPE=text/html:<p>24.11.2024 – Pfarrbereich – Besuch eines Totensonntagsgottesdienstes</p>
X-ACCESS:1
X-HITS:0
X-COLOR:001c78
X-SHOW-END-TIME:1
END:VEVENT
BEGIN:VEVENT
DTSTART;TZID=Europe/Berlin:20241206T170000
DTEND;TZID=Europe/Berlin:20241206T200000
UID:310A1ED4-DBCA-4A8D-8D2B-CFEF017590B7
SUMMARY:Konfis 2025
CREATED:20231214T124827Z
DTSTAMP:20231214T124827Z
URL:https://www.pfarrbereich-schenkenberg.de/index.php/kalender/konfis-2058
DESCRIPTION:06.12.2024 – 17.00-20.00 Uhr – Schenkenberg – Thema: Advent und Weihnachten mit 2026’er
X-ALT-DESC;FMTTYPE=text/html:<p>06.12.2024 – 17.00-20.00 Uhr – Schenkenberg – Thema: Advent und Weihnachten mit 2026’er</p>
X-ACCESS:1
X-HITS:0
X-COLOR:001c78
X-SHOW-END-TIME:1
END:VEVENT
BEGIN:VEVENT
DTSTART;VALUE=DATE:20241208
DTEND;VALUE=DATE:20241209
UID:A532DF78-5F9A-4593-82CC-E1B33EE7D5B8
SUMMARY:Konfis 2025
CREATED:20231214T124845Z
DTSTAMP:20231214T124845Z
URL:https://www.pfarrbereich-schenkenberg.de/index.php/kalender/konfis-2059
DESCRIPTION:08.12.2024 – Pfarrbereich – Besuch eines Adventsgottesdienstes
X-ALT-DESC;FMTTYPE=text/html:<p>08.12.2024 – Pfarrbereich – Besuch eines Adventsgottesdienstes</p>
X-ACCESS:1
X-HITS:0
X-COLOR:001c78
X-SHOW-END-TIME:1
END:VEVENT
BEGIN:VEVENT
DTSTART;TZID=Europe/Berlin:20241213T160000
DTEND;TZID=Europe/Berlin:20241213T200000
UID:881944EC-2C3C-4D9B-8095-FA09CEE2D332
SUMMARY:Konfis 2025
CREATED:20231214T124912Z
DTSTAMP:20231214T124912Z
URL:https://www.pfarrbereich-schenkenberg.de/index.php/kalender/konfis-2060
DESCRIPTION:13.12.2024 – 16.00-20.00 Uhr – Schenkenberg/Halle – Besuch Weihnachtsmarkt
X-ALT-DESC;FMTTYPE=text/html:<p>13.12.2024 – 16.00-20.00 Uhr – Schenkenberg/Halle – Besuch Weihnachtsmarkt</p>
X-ACCESS:1
X-HITS:0
X-COLOR:001c78
X-SHOW-END-TIME:1
END:VEVENT
BEGIN:VEVENT
DTSTART;VALUE=DATE:20241224
DTEND;VALUE=DATE:20241225
UID:BF49BCCA-148C-4351-8CAD-9EACC9F8EE2A
SUMMARY:Konfis 2025
CREATED:20231214T124932Z
DTSTAMP:20231214T124932Z
URL:https://www.pfarrbereich-schenkenberg.de/index.php/kalender/konfis-2061
DESCRIPTION:24.12.2024 – Pfarrbereich – Besuch eines Heilig Abend-Gottesdienstes
X-ALT-DESC;FMTTYPE=text/html:<p>24.12.2024 – Pfarrbereich – Besuch eines Heilig Abend-Gottesdienstes</p>
X-ACCESS:1
X-HITS:0
X-COLOR:001c78
X-SHOW-END-TIME:1
END:VEVENT
BEGIN:VEVENT
DTSTART;TZID=Europe/Berlin:20250110T170000
DTEND;TZID=Europe/Berlin:20250110T200000
UID:2C069DD5-F900-4FA0-9CCB-D18E77BAA2DF
SUMMARY:Konfis 2025
CREATED:20231214T125002Z
DTSTAMP:20231214T125002Z
URL:https://www.pfarrbereich-schenkenberg.de/index.php/kalender/konfis-2062
DESCRIPTION:10.01.2025 – 17.00-20.00 Uhr – Schenkenberg/??? – Thema: Sonderseelsorge Militär/Polizei/FFW/Hospiz
X-ALT-DESC;FMTTYPE=text/html:<p>10.01.2025 – 17.00-20.00 Uhr – Schenkenberg/??? – Thema: Sonderseelsorge Militär/Polizei/FFW/Hospiz</p>
X-ACCESS:1
X-HITS:0
X-COLOR:001c78
X-SHOW-END-TIME:1
END:VEVENT
BEGIN:VEVENT
DTSTART;TZID=Europe/Berlin:20250124T170000
DTEND;TZID=Europe/Berlin:20250124T200000
UID:73CED8B1-72CD-4723-830B-50D2AACA533B
SUMMARY:Konfis 2025
CREATED:20231214T125029Z
DTSTAMP:20231214T125029Z
URL:https://www.pfarrbereich-schenkenberg.de/index.php/kalender/konfis-2063
DESCRIPTION:24.01.2025 – 17.00-20.00 Uhr – Schenkenberg/??? – Thema: Sonderseelsorge Militär/Polizei/FFW/Hospiz
X-ALT-DESC;FMTTYPE=text/html:<p>24.01.2025 – 17.00-20.00 Uhr – Schenkenberg/??? – Thema: Sonderseelsorge Militär/Polizei/FFW/Hospiz</p>
X-ACCESS:1
X-HITS:0
X-COLOR:001c78
X-SHOW-END-TIME:1
END:VEVENT
BEGIN:VEVENT
DTSTART;TZID=Europe/Berlin:20250207T170000
DTEND;TZID=Europe/Berlin:20250207T200000
UID:2CAC782D-AA3F-480A-B626-71E94BFFB0E5
SUMMARY:Konfis 2025
CREATED:20231214T125054Z
DTSTAMP:20231214T125054Z
URL:https://www.pfarrbereich-schenkenberg.de/index.php/kalender/konfis-2064
DESCRIPTION:07.02.2025 – 17.00-20.00 Uhr – Schenkenberg – Thema: Sakramente
X-ALT-DESC;FMTTYPE=text/html:<p>07.02.2025 – 17.00-20.00 Uhr – Schenkenberg – Thema: Sakramente</p>
X-ACCESS:1
X-HITS:0
X-COLOR:001c78
X-SHOW-END-TIME:1
END:VEVENT
BEGIN:VEVENT
DTSTART;TZID=Europe/Berlin:20250307T180000
DTEND;TZID=Europe/Berlin:20250307T200000
UID:79777558-31AA-486C-B8FD-E5A4504A0D2E
SUMMARY:Konfis 2025
CREATED:20231214T125119Z
DTSTAMP:20231214T125119Z
URL:https://www.pfarrbereich-schenkenberg.de/index.php/kalender/konfis-2065
DESCRIPTION:07.03.2025 – 18.00-20.00 Uhr – Schkeuditz – Weltgebetstag
X-ALT-DESC;FMTTYPE=text/html:<p>07.03.2025 – 18.00-20.00 Uhr – Schkeuditz – Weltgebetstag</p>
X-ACCESS:1
X-HITS:0
X-COLOR:001c78
X-SHOW-END-TIME:1
END:VEVENT
BEGIN:VEVENT
DTSTART;TZID=Europe/Berlin:20250328T170000
DTEND;TZID=Europe/Berlin:20250328T200000
UID:1DB0CD3D-77EC-4F48-8F6C-6652D20AB933
SUMMARY:Konfis 2025
CREATED:20231214T125146Z
DTSTAMP:20231214T125146Z
URL:https://www.pfarrbereich-schenkenberg.de/index.php/kalender/konfis-2066
DESCRIPTION:28.03.2025 – 17.00-20.00 Uhr – Schenkenberg – Projekt: Meine Konfirmandenzeit
X-ALT-DESC;FMTTYPE=text/html:<p>28.03.2025 – 17.00-20.00 Uhr – Schenkenberg – Projekt: Meine Konfirmandenzeit</p>
X-ACCESS:1
X-HITS:0
X-COLOR:001c78
X-SHOW-END-TIME:1
END:VEVENT
BEGIN:VEVENT
DTSTART;TZID=Europe/Berlin:20250411T170000
DTEND;TZID=Europe/Berlin:20250411T200000
UID:3EE7A658-5C5F-40EF-BFAD-2884FD657EB4
SUMMARY:Konfis 2025
CREATED:20231214T125210Z
DTSTAMP:20231214T125210Z
URL:https://www.pfarrbereich-schenkenberg.de/index.php/kalender/konfis-2067
DESCRIPTION:11.04.2025 – 17.00-20.00 Uhr – Schenkenberg – Thema: Mein Konfirmationsspruch
X-ALT-DESC;FMTTYPE=text/html:<p>11.04.2025 – 17.00-20.00 Uhr – Schenkenberg – Thema: Mein Konfirmationsspruch</p>
X-ACCESS:1
X-HITS:0
X-COLOR:001c78
X-SHOW-END-TIME:1
END:VEVENT
BEGIN:VEVENT
DTSTART;VALUE=DATE:20250418
DTEND;VALUE=DATE:20250419
UID:BF0E8015-5077-4AAE-8F53-BCDB1B9EBEDA
SUMMARY:Konfis 2025
CREATED:20231214T125229Z
DTSTAMP:20231214T125229Z
URL:https://www.pfarrbereich-schenkenberg.de/index.php/kalender/konfis-2068
DESCRIPTION:18.04.2025 – Pfarrbereich – Besuch eines Karfreitagsgottesdienstes
X-ALT-DESC;FMTTYPE=text/html:<p>18.04.2025 – Pfarrbereich – Besuch eines Karfreitagsgottesdienstes</p>
X-ACCESS:1
X-HITS:0
X-COLOR:001c78
X-SHOW-END-TIME:1
END:VEVENT
BEGIN:VEVENT
DTSTART;VALUE=DATE:20250420
DTEND;VALUE=DATE:20250421
UID:AD56A0BA-B9EC-4CE2-A146-B1E2C1291C16
SUMMARY:Konfis 2025
CREATED:20231214T125246Z
DTSTAMP:20231214T125246Z
URL:https://www.pfarrbereich-schenkenberg.de/index.php/kalender/konfis-2069
DESCRIPTION:20.04.2025 – Pfarrbereich – Besuch eines Ostergottesdienstes
X-ALT-DESC;FMTTYPE=text/html:<p>20.04.2025 – Pfarrbereich – Besuch eines Ostergottesdienstes</p>
X-ACCESS:1
X-HITS:0
X-COLOR:001c78
X-SHOW-END-TIME:1
END:VEVENT
BEGIN:VEVENT
DTSTART;TZID=Europe/Berlin:20250425T180000
DTEND;TZID=Europe/Berlin:20250425T190000
UID:48BA04BC-965C-405A-A84D-15E7E51EE53A
SUMMARY:Konfis 2025
CREATED:20231214T125311Z
DTSTAMP:20231214T125311Z
URL:https://www.pfarrbereich-schenkenberg.de/index.php/kalender/konfis-2070
DESCRIPTION:25.04.2025 – 18.00/19.30 Uhr – Löbnitz oder Schkeuditz – Abschlussessen/Erstabendmahlsgottesdienst
X-ALT-DESC;FMTTYPE=text/html:<p>25.04.2025 – 18.00/19.30 Uhr – Löbnitz oder Schkeuditz – Abschlussessen/Erstabendmahlsgottesdienst</p>
X-ACCESS:1
X-HITS:0
X-COLOR:001c78
X-SHOW-END-TIME:0
END:VEVENT
BEGIN:VEVENT
DTSTART;TZID=Europe/Berlin:20250426T103000
DTEND;TZID=Europe/Berlin:20250426T113000
UID:D78A96BD-1155-449D-8865-4FE0D7AD5EE1
SUMMARY:Konfis 2025
CREATED:20231214T125333Z
DTSTAMP:20231214T125333Z
URL:https://www.pfarrbereich-schenkenberg.de/index.php/kalender/konfis-2071
DESCRIPTION:26.04.2025 – 10.30 Uhr – Löbnitz – Konfirmation 1
X-ALT-DESC;FMTTYPE=text/html:<p>26.04.2025 – 10.30 Uhr – Löbnitz – Konfirmation 1</p>
X-ACCESS:1
X-HITS:0
X-COLOR:001c78
X-SHOW-END-TIME:0
END:VEVENT
BEGIN:VEVENT
DTSTART;TZID=Europe/Berlin:20250426T130000
DTEND;TZID=Europe/Berlin:20250426T140000
UID:58B06711-4ED9-4E22-9E2C-BB5C4F2397E8
SUMMARY:Konfis 2025
CREATED:20231214T125354Z
DTSTAMP:20231214T125354Z
URL:https://www.pfarrbereich-schenkenberg.de/index.php/kalender/konfis-2072
DESCRIPTION:26.04.2025 – 13.00 Uhr – Schenkenberg – Konfirmation 2
X-ALT-DESC;FMTTYPE=text/html:<p>26.04.2025 – 13.00 Uhr – Schenkenberg – Konfirmation 2</p>
X-ACCESS:1
X-HITS:0
X-COLOR:001c78
X-SHOW-END-TIME:0
END:VEVENT
BEGIN:VEVENT
DTSTART;TZID=Europe/Berlin:20250426T143000
DTEND;TZID=Europe/Berlin:20250426T153000
UID:9A6C8F49-EF54-4775-B019-EF0F9B34744D
SUMMARY:Konfis 2025
CREATED:20231214T125417Z
DTSTAMP:20231214T125417Z
URL:https://www.pfarrbereich-schenkenberg.de/index.php/kalender/konfis-2073
DESCRIPTION:26.04.2025 – 14.30 Uhr – Schenkenberg – Konfirmation 3
X-ALT-DESC;FMTTYPE=text/html:<p>26.04.2025 – 14.30 Uhr – Schenkenberg – Konfirmation 3</p>
X-ACCESS:1
X-HITS:0
X-COLOR:001c78
X-SHOW-END-TIME:0
END:VEVENT
BEGIN:VEVENT
DTSTART;TZID=Europe/Berlin:20250502T180000
DTEND;TZID=Europe/Berlin:20250502T200000
UID:C48DD139-32C3-4B9F-8E59-7E19107AA03B
SUMMARY:Junge Gemeinde
CREATED:20231214T125453Z
DTSTAMP:20231214T125453Z
URL:https://www.pfarrbereich-schenkenberg.de/index.php/kalender/junge-gemeinde
DESCRIPTION:02.05.2025 – 18.00-20.00 Uhr – Schenkenberg – Junge Gemeinde
X-ALT-DESC;FMTTYPE=text/html:<p>02.05.2025 – 18.00-20.00 Uhr – Schenkenberg – Junge Gemeinde</p>
X-ACCESS:1
X-HITS:0
X-COLOR:001c78
X-SHOW-END-TIME:1
END:VEVENT
BEGIN:VEVENT
DTSTART;TZID=Europe/Berlin:20251212T160000
DTEND;TZID=Europe/Berlin:20251212T170000
UID:563877E6-9B49-4393-A197-D07AF0D4F4EE
SUMMARY:Konfi-Ausflug nach Halle
CREATED:20251120T141459Z
DTSTAMP:20251120T141459Z
URL:https://www.pfarrbereich-schenkenberg.de/index.php/kalender/konfi-ausflug-nach-halle
DESCRIPTION:Freitag, 12.12.\N16.00 Uhr – Halle/Saale – Weihnachtsmarktbesuch mit Konfirmanden
X-ALT-DESC;FMTTYPE=text/html:<p>Freitag, 12.12.</p><p>16.00 Uhr – Halle/Saale – Weihnachtsmarktbesuch mit Konfirmanden</p>
LAST-MODIFIED:20251120T141459Z
SEQUENCE:0
X-ACCESS:1
X-HITS:0
X-COLOR:001c78
X-SHOW-END-TIME:0
END:VEVENT
END:VCALENDAR